BEGIN:VCALENDAR
VERSION:2.0
PRODID:-//Charles Krug - ECPv6.15.20//NONSGML v1.0//EN
CALSCALE:GREGORIAN
METHOD:PUBLISH
X-WR-CALNAME:Charles Krug
X-ORIGINAL-URL:https://charleskrug.com
X-WR-CALDESC:Events for Charles Krug
REFRESH-INTERVAL;VALUE=DURATION:PT1H
X-Robots-Tag:noindex
X-PUBLISHED-TTL:PT1H
BEGIN:VTIMEZONE
TZID:America/Los_Angeles
BEGIN:DAYLIGHT
TZOFFSETFROM:-0800
TZOFFSETTO:-0700
TZNAME:PDT
DTSTART:20210314T100000
END:DAYLIGHT
BEGIN:STANDARD
TZOFFSETFROM:-0700
TZOFFSETTO:-0800
TZNAME:PST
DTSTART:20211107T090000
END:STANDARD
BEGIN:DAYLIGHT
TZOFFSETFROM:-0800
TZOFFSETTO:-0700
TZNAME:PDT
DTSTART:20220313T100000
END:DAYLIGHT
BEGIN:STANDARD
TZOFFSETFROM:-0700
TZOFFSETTO:-0800
TZNAME:PST
DTSTART:20221106T090000
END:STANDARD
BEGIN:DAYLIGHT
TZOFFSETFROM:-0800
TZOFFSETTO:-0700
TZNAME:PDT
DTSTART:20230312T100000
END:DAYLIGHT
BEGIN:STANDARD
TZOFFSETFROM:-0700
TZOFFSETTO:-0800
TZNAME:PST
DTSTART:20231105T090000
END:STANDARD
BEGIN:DAYLIGHT
TZOFFSETFROM:-0800
TZOFFSETTO:-0700
TZNAME:PDT
DTSTART:20240310T100000
END:DAYLIGHT
BEGIN:STANDARD
TZOFFSETFROM:-0700
TZOFFSETTO:-0800
TZNAME:PST
DTSTART:20241103T090000
END:STANDARD
BEGIN:DAYLIGHT
TZOFFSETFROM:-0800
TZOFFSETTO:-0700
TZNAME:PDT
DTSTART:20250309T100000
END:DAYLIGHT
BEGIN:STANDARD
TZOFFSETFROM:-0700
TZOFFSETTO:-0800
TZNAME:PST
DTSTART:20251102T090000
END:STANDARD
END:VTIMEZONE
BEGIN:VEVENT
DTSTART;TZID=America/Los_Angeles:20241214T140000
DTEND;TZID=America/Los_Angeles:20241214T170000
DTSTAMP:20260425T123716
CREATED:20241022T212149Z
LAST-MODIFIED:20241113T163537Z
UID:2158-1734184800-1734195600@charleskrug.com
SUMMARY:Holiday Sugar Cookie Decorating Class
DESCRIPTION:Unleash your inner pastry artist!\nThe holidays are just around the corner\nUnwind with us at Charles Krug\n sip some wine\, snack a little & create edible masterpieces\nDo the holidays stress you out? Need a break from all the frantic shopping and hoopla?\nJoin us for an intimate\, fun-filled afternoon with local pastry artist extraordinaire\, Allison. She will be teaching the art of sugar cookie decorating\, just in time for the holidays. Enjoy an array of wines and a delicious spread of cheese and charcuterie to nibble on while you get your creative juices flowing. In the spirit of the season\, we’ve also crafted a divine mulled wine to keep you cozy and warm as you unleash your inner artist. Additionally\, you will take home six professionally decorated cookies\, made by Allison\, along with your personal creations.\nIf you love the wine or need a few gifts and stocking stuffers\, our team will be on hand to assist with any purchases\, plus exclusive holiday discounts on wine and retail. We hope you join us—there will be plenty of fun\, laughter\, and memories to be made!\n  \nIn the spirit of the holidays and from our family to yours\, give the gift of time & memories with loved ones this season \nDETAILS\nSaturday\, December 14th\, 2024 | 2:00pm – 5:00pm\nLOCATION\nCharles Krug Winery Tasting Room Loft\n2800 Main Street\, St. Helena\, CA 94574\nINCLUDES\nA fun selection of Charles Krug wines & special mulled wine available for the duration of class\nA cheese & charcuterie spread for all to enjoy\nDecorating tools and 6 undecorated cookies are supplied for each person\n6 professionally decorated cookies to take home at the end of the event\n  \nPurchase Tickets Here\n$70+ tax\n  \nRESTRICTIONS\nThis event is meant for adults 21 & over\, limited seats are available at a small children’s table.  \nIf you are interested in purchasing a children’s ticket please e-mail Experiences@Charleskrug.com \n  \n 
URL:https://charleskrug.com/upcoming-events/holiday-sugar-cookie-decorating-class
LOCATION:Charles Krug Winery\, 2800 Main St\, St. Helena\, CA\, 94574\, United States
CATEGORIES:Charles Krug Events
ATTACH;FMTTYPE=image/png:https://charleskrug.com/wp-content/uploads/2024/10/Sugar-Cookie-2-e1729630483745.png
END:VEVENT
BEGIN:VEVENT
DTSTART;VALUE=DATE:20240925
DTEND;VALUE=DATE:20241006
DTSTAMP:20260425T123716
CREATED:20240125T002351Z
LAST-MODIFIED:20240305T172900Z
UID:1948-1727222400-1728172799@charleskrug.com
SUMMARY:Regent Seven Seas Cruises
DESCRIPTION:Cruise with Charles Krug Winery Featuring private events with\nPeter Mondavi\, Jr. & Katie Mondavi\n10-NIGHT JOURNEY TO DALMATIA:\nAboard the Regent Seven Seas “Voyager”\nSeptember 25 – October 5\, 2024\nRome\, Amalfi/Positano\, Messina (Sicily)\, Cruising the Ionian Sea\, Igoumenitsa\, Tirana (Durres)\, Kotor\, Zadar\, Rijeka\, Trieste \nTHE ALL-INCLUSIVE REGENT EXPERIENCE:\nFREE Business Class Air*\nFREE Unlimited Beverages Including Fine Wines and Premium Spirits\nFREE Open Bars and Lounges plus In-Suite Mini-Bar Replenished Daily\nFREE Pre-Paid Gratuities\nFREE Unlimited WiFi & more \nCRUISE PLANNERS® EXCLUSIVE AMENITIES:\n• $400 shipboard credit per suite\n• Welcome & farewell receptions\n• Private events with Peter Mondavi\, Jr. & Katie Mondavi\n• Private group epicurean experiences\n*NOTE: To experience the private tastings and dinners with Peter Mondavi\, Jr. and Katie Mondavi you must book through Cruise Planner* \nINTERESTED IN BOOKING A TRIP OF A LIFETIME??\nCall Adam Martindale for more information or to book\n619-879-3601 | amartindale@cruiseplanners.com \nEXPLORE MORE -> CLICK HERE
URL:https://charleskrug.com/upcoming-events/regent-seven-seas-cruises
LOCATION:CA
CATEGORIES:Charles Krug Events
ATTACH;FMTTYPE=image/jpeg:https://charleskrug.com/wp-content/uploads/2024/01/Cruise-Photo-1.jpg
END:VEVENT
BEGIN:VEVENT
DTSTART;TZID=America/Los_Angeles:20230909T150000
DTEND;TZID=America/Los_Angeles:20230909T170000
DTSTAMP:20260425T123716
CREATED:20230814T183118Z
LAST-MODIFIED:20240320T160036Z
UID:1708-1694271600-1694278800@charleskrug.com
SUMMARY:Eggplant Parmigiana Class with Truffle Shuffle
DESCRIPTION:$125.00\n\nJoin us on September 9th for a Truffle Shuffle at-home virtual cooking class!! Here\, you may purchase the kit which includes ALL the fixings needed for the class itself. To purchase the wines\, please click this link.\nPurchase The Wine \nPurchase The Kit  \nIn celebration of the Mondavi family’s 80th anniversary of owning Charles Krug Winery\, we are thrilled to collaborate with Truffle Shuffle to bring you an exclusive and perfect pairing experience. \nPrepare yourself for a mouthwatering culinary delight! Chef Tyler from Truffle Shuffle shares his recipe for the ultimate Eggplant Parmigiana\, featuring crispy pan-fried breaded eggplant\, black truffles\, and an abundance of melty Golden Brown Delicious (GBD) cheese. \nFor this special event\, we have chosen our 2022 Limited Release Sauvignon and our 2019 Family Reserve Generations to complement this delicious meal. \nPlease contact us directly with any questions or concerns at (707) 967-2290 or experiences@charleskrug.com. \n*Please note\, the kit will be shipped separately from the wine and directly from Truffle Shuffle. The wine will still come directly from Charles Krug Winery* \n\nEach Ingredient Kit Serves: 2 happy home chefs \nClass duration: 90-minute experience \nDifficulty: Easy \n\nWhat’s included in your box?\n10 ounces Nonna’s Tomato Sauce\n1 large eggplant\n4 eggs\n1¼ cup all-purpose flour\n1¼ cup breadcrumbs\n1 teaspoon dried oregano\n1 teaspoon dried rosemary\n½ teaspoon red chili flakes\n½ teaspoon dried thyme\n1½ teaspoons garlic powder\n1½ teaspoons onion powder\n1 packet Balinese Truffle Salt\n1 ounce Parmesan\n5 ounces mozzarella\n½ bunch basil\n1 cup canola oil\n1 jar Truffle Carpaccio \n For every kit Truffle Shuffle sells\, they donate a meal to someone in need through the Alameda Community Food Bank
URL:https://charleskrug.com/upcoming-events/eggplant-parmigiana-class-with-truffle-shuffle
LOCATION:Charles Krug Winery\, 2800 Main St\, St. Helena\, CA\, 94574\, United States
CATEGORIES:Charles Krug Events
ATTACH;FMTTYPE=image/jpeg:https://charleskrug.com/wp-content/uploads/2023/08/TS-Parm.jpg
END:VEVENT
BEGIN:VEVENT
DTSTART;TZID=America/Los_Angeles:20230624T120000
DTEND;TZID=America/Los_Angeles:20230624T140000
DTSTAMP:20260425T123716
CREATED:20230123T221643Z
LAST-MODIFIED:20230601T224107Z
UID:1477-1687608000-1687615200@charleskrug.com
SUMMARY:Charles Krug Winery | Blending Session with Angelina Mondavi
DESCRIPTION:LEARN TO BLEND WINE WITH WINEMAKER\, ANGELINA MONDAVI!\nJoin us for a special wine blending session with Angelina Mondavi\,  4th generation family member\, and talented winemaker. \nThis special event is normally limited to our Wine Club members and gives you an opportunity to enjoy one of the special events we offer our members. \nIn this session\,  you’ll learn the processes and nuances of what makes a blend work and have the chance to make your own blend. \nWe’ll supply everything you need – just dress in comfortable and warm layers\, and be ready to make wine with a Mondavi!  \nAt the end of the session\, you’ll take home an autographed bottle of our signature GENERATIONS wine – our Bordeaux blend that represents our (now) five generations of Mondavi family members. \nDETAILS\nEvent: Wine blending session with Angelina Mondavi\, Co Proprietor and Consultant Wine Maker \nLocation:  Redwood Cellar Barrel Room – Dress in warm and comfortable clothing since we keep our Barrel Room at a cool temperature \nJust 30 tickets available. \nPrice: $220.00pp + Tax and Eventbrite fees ($238.15) \nIncludes: Includes blending session and bottle of signed Generations to take home. \n  \nWant insider access to all our cool special events\, discounted tickets to our partner events\, and special wine deals? \nBecome a Wine Club member today. \n  \nTICKETS\nCLICK HERE FOR TICKETS
URL:https://charleskrug.com/upcoming-events/blending-session-with-angelina-mondavi
LOCATION:Charles Krug Winery\, 2800 Main St\, St. Helena\, CA\, 94574\, United States
CATEGORIES:Charles Krug Events
ATTACH;FMTTYPE=image/jpeg:https://charleskrug.com/wp-content/uploads/2023/01/Blending-Event-Photo_Use-this-photo-.jpg
END:VEVENT
BEGIN:VEVENT
DTSTART;TZID=America/Los_Angeles:20220514T110000
DTEND;TZID=America/Los_Angeles:20220514T140000
DTSTAMP:20260425T123716
CREATED:20220421T195412Z
LAST-MODIFIED:20220421T200509Z
UID:1268-1652526000-1652536800@charleskrug.com
SUMMARY:Member Party
DESCRIPTION:We’re excited that we can get together with friends and family again\, and we think of our Wine Club Members as our extended family. We hope you’ll join us for our first “Member Pick Up Party” in two years. It’s our way of celebrating our valued members and enjoying the friendships we have forged over wine.  \nFind Tickets \nEXPERIENCE\nOn Saturday\, May 14th\, we are closing the Charles Krug Tasting Room all day\, and opening the doors for our Wine Club Members and their guests to enjoy an afternoon of tasting and festivities. \n\nSpecial wine deals (Event day only)\nDelicious bites created by Crossroads Chicken (“Napa Comfort Food”\, as reviewed by The New York Times\, Conde Nast Traveler\, and more)\nMusical entertainment\, take home gifts\, and more!\n\nPICK UP YOUR MAY SHIPMENT \nTICKETS\n$65 per guest \nFind Tickets
URL:https://charleskrug.com/upcoming-events/member-party
LOCATION:Charles Krug Winery\, 2800 Main St\, St. Helena\, CA\, 94574\, United States
CATEGORIES:Charles Krug Events
ATTACH;FMTTYPE=image/png:https://charleskrug.com/wp-content/uploads/2022/04/member-party.png
END:VEVENT
BEGIN:VEVENT
DTSTART;TZID=America/Los_Angeles:20220309T080000
DTEND;TZID=America/Los_Angeles:20220309T170000
DTSTAMP:20260425T123716
CREATED:20220224T172843Z
LAST-MODIFIED:20220224T172858Z
UID:1146-1646812800-1646845200@charleskrug.com
SUMMARY:TEST- Local Event
DESCRIPTION:This is a test to show the difference between a Blue Note Event and a non Blue Note Event
URL:https://charleskrug.com/upcoming-events/test-local-event
LOCATION:Charles Krug Winery\, 2800 Main St\, St. Helena\, CA\, 94574\, United States
CATEGORIES:Charles Krug Events
ATTACH;FMTTYPE=image/jpeg:https://charleskrug.com/wp-content/uploads/2021/08/Backyard-with-ppl.jpg
END:VEVENT
END:VCALENDAR