BEGIN:VCALENDAR
VERSION:2.0
PRODID:-//Charles Krug - ECPv6.15.20//NONSGML v1.0//EN
CALSCALE:GREGORIAN
METHOD:PUBLISH
X-ORIGINAL-URL:https://charleskrug.com
X-WR-CALDESC:Events for Charles Krug
REFRESH-INTERVAL;VALUE=DURATION:PT1H
X-Robots-Tag:noindex
X-PUBLISHED-TTL:PT1H
BEGIN:VTIMEZONE
TZID:America/Los_Angeles
BEGIN:DAYLIGHT
TZOFFSETFROM:-0800
TZOFFSETTO:-0700
TZNAME:PDT
DTSTART:20210314T100000
END:DAYLIGHT
BEGIN:STANDARD
TZOFFSETFROM:-0700
TZOFFSETTO:-0800
TZNAME:PST
DTSTART:20211107T090000
END:STANDARD
BEGIN:DAYLIGHT
TZOFFSETFROM:-0800
TZOFFSETTO:-0700
TZNAME:PDT
DTSTART:20220313T100000
END:DAYLIGHT
BEGIN:STANDARD
TZOFFSETFROM:-0700
TZOFFSETTO:-0800
TZNAME:PST
DTSTART:20221106T090000
END:STANDARD
BEGIN:DAYLIGHT
TZOFFSETFROM:-0800
TZOFFSETTO:-0700
TZNAME:PDT
DTSTART:20230312T100000
END:DAYLIGHT
BEGIN:STANDARD
TZOFFSETFROM:-0700
TZOFFSETTO:-0800
TZNAME:PST
DTSTART:20231105T090000
END:STANDARD
END:VTIMEZONE
BEGIN:VEVENT
DTSTART;TZID=America/Los_Angeles:20220923T183000
DTEND;TZID=America/Los_Angeles:20220923T183000
DTSTAMP:20260425T205118
CREATED:20220808T204439Z
LAST-MODIFIED:20220808T204439Z
UID:1315-1663957800-1663957800@charleskrug.com
SUMMARY:MOE.
DESCRIPTION:
URL:https://charleskrug.com/upcoming-events/moe
LOCATION:Blue Note Napa At Charles Krug Winery\, 2800 Main St\, St. Helena\, CA\, 94574\, United States
CATEGORIES:Blue Note Napa At Charles Krug Winery
ATTACH;FMTTYPE=image/png:https://charleskrug.com/wp-content/uploads/2022/08/Moe.png
END:VEVENT
BEGIN:VEVENT
DTSTART;TZID=America/Los_Angeles:20220917T200000
DTEND;TZID=America/Los_Angeles:20220917T200000
DTSTAMP:20260425T205118
CREATED:20220407T233336Z
LAST-MODIFIED:20220407T233355Z
UID:1262-1663444800-1663444800@charleskrug.com
SUMMARY:Oteil & Friends Feat Melvin Seals\, Steve Kimock\, Eric Krasno & Johnny Kimock
DESCRIPTION:
URL:https://charleskrug.com/upcoming-events/oteil-friends-feat-melvin-seals-steve-kimock-eric-krasno-johnny-kimock
LOCATION:Blue Note Napa At Charles Krug Winery\, 2800 Main St\, St. Helena\, CA\, 94574\, United States
CATEGORIES:Blue Note Napa At Charles Krug Winery
ATTACH;FMTTYPE=image/png:https://charleskrug.com/wp-content/uploads/2022/04/Oteil.png
END:VEVENT
BEGIN:VEVENT
DTSTART;TZID=America/Los_Angeles:20220915T200000
DTEND;TZID=America/Los_Angeles:20220915T200000
DTSTAMP:20260425T205118
CREATED:20220808T204205Z
LAST-MODIFIED:20220808T204205Z
UID:1312-1663272000-1663272000@charleskrug.com
SUMMARY:RODRIGO Y GABRIELA
DESCRIPTION:
URL:https://charleskrug.com/upcoming-events/rodrigo-y-gabriela
LOCATION:Blue Note Napa At Charles Krug Winery\, 2800 Main St\, St. Helena\, CA\, 94574\, United States
CATEGORIES:Blue Note Napa At Charles Krug Winery
ATTACH;FMTTYPE=image/png:https://charleskrug.com/wp-content/uploads/2022/08/Rodrigo-Y-Gabriela.png
END:VEVENT
BEGIN:VEVENT
DTSTART;TZID=America/Los_Angeles:20220909T200000
DTEND;TZID=America/Los_Angeles:20220909T200000
DTSTAMP:20260425T205118
CREATED:20220808T203709Z
LAST-MODIFIED:20220808T203859Z
UID:1309-1662753600-1662753600@charleskrug.com
SUMMARY:THE CALIFORNIA HONEYDROPS
DESCRIPTION:
URL:https://charleskrug.com/upcoming-events/the-california-honeydrops
LOCATION:Blue Note Napa At Charles Krug Winery\, 2800 Main St\, St. Helena\, CA\, 94574\, United States
CATEGORIES:Blue Note Napa At Charles Krug Winery
ATTACH;FMTTYPE=image/png:https://charleskrug.com/wp-content/uploads/2022/08/Honeydrops.png
END:VEVENT
BEGIN:VEVENT
DTSTART;TZID=America/Los_Angeles:20220905T160000
DTEND;TZID=America/Los_Angeles:20220905T160000
DTSTAMP:20260425T205118
CREATED:20220224T003716Z
LAST-MODIFIED:20220407T163915Z
UID:1140-1662393600-1662393600@charleskrug.com
SUMMARY:Peter White & Vincent Ingala W/ Special Guest Mindi Abair
DESCRIPTION:
URL:https://charleskrug.com/upcoming-events/peter-white-vincent-ingala-w-special-guest-mindi-abair
LOCATION:Blue Note Napa At Charles Krug Winery\, 2800 Main St\, St. Helena\, CA\, 94574\, United States
CATEGORIES:Blue Note Napa At Charles Krug Winery
ATTACH;FMTTYPE=image/png:https://charleskrug.com/wp-content/uploads/2022/02/Peter-White-And-Vincent-Ingala.png
END:VEVENT
BEGIN:VEVENT
DTSTART;TZID=America/Los_Angeles:20220904T193000
DTEND;TZID=America/Los_Angeles:20220904T193000
DTSTAMP:20260425T205118
CREATED:20220224T003715Z
LAST-MODIFIED:20220224T194622Z
UID:1139-1662319800-1662319800@charleskrug.com
SUMMARY:The Brian McKnight 4
DESCRIPTION:
URL:https://charleskrug.com/upcoming-events/the-brian-mcknight-4-2
LOCATION:Blue Note Napa At Charles Krug Winery\, 2800 Main St\, St. Helena\, CA\, 94574\, United States
CATEGORIES:Blue Note Napa At Charles Krug Winery
ATTACH;FMTTYPE=image/png:https://charleskrug.com/wp-content/uploads/2022/02/The-Brian-McKnight-4.png
END:VEVENT
BEGIN:VEVENT
DTSTART;TZID=America/Los_Angeles:20220903T203000
DTEND;TZID=America/Los_Angeles:20220903T203000
DTSTAMP:20260425T205118
CREATED:20220224T003701Z
LAST-MODIFIED:20220224T194638Z
UID:1138-1662237000-1662237000@charleskrug.com
SUMMARY:The Brian McKnight 4
DESCRIPTION:
URL:https://charleskrug.com/upcoming-events/the-brian-mcknight-4
LOCATION:Blue Note Napa At Charles Krug Winery\, 2800 Main St\, St. Helena\, CA\, 94574\, United States
CATEGORIES:Blue Note Napa At Charles Krug Winery
ATTACH;FMTTYPE=image/png:https://charleskrug.com/wp-content/uploads/2022/02/The-Brian-McKnight-4.png
END:VEVENT
BEGIN:VEVENT
DTSTART;TZID=America/Los_Angeles:20220827T120000
DTEND;TZID=America/Los_Angeles:20220827T120000
DTSTAMP:20260425T205118
CREATED:20220808T203427Z
LAST-MODIFIED:20220808T203930Z
UID:1306-1661601600-1661601600@charleskrug.com
SUMMARY:NAPA/NOLA: A DAY OF NEW ORLEANS MUSIC AND FOOD
DESCRIPTION:
URL:https://charleskrug.com/upcoming-events/napa-nola-a-day-of-new-orleans-music-and-food
LOCATION:Blue Note Napa At Charles Krug Winery\, 2800 Main St\, St. Helena\, CA\, 94574\, United States
CATEGORIES:Blue Note Napa At Charles Krug Winery
ATTACH;FMTTYPE=image/png:https://charleskrug.com/wp-content/uploads/2022/08/NOLA.png
END:VEVENT
BEGIN:VEVENT
DTSTART;TZID=America/Los_Angeles:20220826T173000
DTEND;TZID=America/Los_Angeles:20220826T173000
DTSTAMP:20260425T205118
CREATED:20220407T232851Z
LAST-MODIFIED:20220407T232937Z
UID:1253-1661535000-1661535000@charleskrug.com
SUMMARY:Lalah Hathaway
DESCRIPTION:
URL:https://charleskrug.com/upcoming-events/lalah-hathaway
LOCATION:Blue Note Napa At Charles Krug Winery\, 2800 Main St\, St. Helena\, CA\, 94574\, United States
CATEGORIES:Blue Note Napa At Charles Krug Winery
ATTACH;FMTTYPE=image/png:https://charleskrug.com/wp-content/uploads/2022/04/Lalah-Hathaway.png
END:VEVENT
BEGIN:VEVENT
DTSTART;TZID=America/Los_Angeles:20220821T163000
DTEND;TZID=America/Los_Angeles:20220821T170000
DTSTAMP:20260425T205118
CREATED:20220407T232716Z
LAST-MODIFIED:20220407T232716Z
UID:1249-1661099400-1661101200@charleskrug.com
SUMMARY:One Nation Under A Groove Tour Feat. George Clinton & Parliament Funkadelic
DESCRIPTION:
URL:https://charleskrug.com/upcoming-events/one-nation-under-a-groove-tour-feat-george-clinton-parliament-funkadelic
LOCATION:Blue Note Napa At Charles Krug Winery\, 2800 Main St\, St. Helena\, CA\, 94574\, United States
CATEGORIES:Blue Note Napa At Charles Krug Winery
ATTACH;FMTTYPE=image/png:https://charleskrug.com/wp-content/uploads/2022/04/George-Clinton.png
END:VEVENT
BEGIN:VEVENT
DTSTART;TZID=America/Los_Angeles:20220819T200000
DTEND;TZID=America/Los_Angeles:20220819T200000
DTSTAMP:20260425T205118
CREATED:20220407T232025Z
LAST-MODIFIED:20220407T232025Z
UID:1246-1660939200-1660939200@charleskrug.com
SUMMARY:Jesse Cook
DESCRIPTION:
URL:https://charleskrug.com/upcoming-events/jesse-cook
LOCATION:Blue Note Napa At Charles Krug Winery\, 2800 Main St\, St. Helena\, CA\, 94574\, United States
CATEGORIES:Blue Note Napa At Charles Krug Winery
ATTACH;FMTTYPE=image/png:https://charleskrug.com/wp-content/uploads/2022/04/Jesse-Cook.png
END:VEVENT
BEGIN:VEVENT
DTSTART;TZID=America/Los_Angeles:20220814T153000
DTEND;TZID=America/Los_Angeles:20220814T170000
DTSTAMP:20260425T205118
CREATED:20220407T231838Z
LAST-MODIFIED:20220407T231911Z
UID:1242-1660491000-1660496400@charleskrug.com
SUMMARY:Jonathan Butler & Gerald Albright Double Bill
DESCRIPTION:
URL:https://charleskrug.com/upcoming-events/jonathan-butler-gerald-albright-double-bill
LOCATION:Blue Note Napa At Charles Krug Winery\, 2800 Main St\, St. Helena\, CA\, 94574\, United States
CATEGORIES:Blue Note Napa At Charles Krug Winery
ATTACH;FMTTYPE=image/png:https://charleskrug.com/wp-content/uploads/2022/04/Jonathan-Butler-Gerald-Albright.png
END:VEVENT
BEGIN:VEVENT
DTSTART;TZID=America/Los_Angeles:20220813T190000
DTEND;TZID=America/Los_Angeles:20220813T190000
DTSTAMP:20260425T205118
CREATED:20220808T202041Z
LAST-MODIFIED:20220808T203944Z
UID:1301-1660417200-1660417200@charleskrug.com
SUMMARY:POOLSIDE: CELEBRATING 10 YEARS OF PACIFIC STANDARD TIME W/ SPECIAL GUEST VICEROY
DESCRIPTION:
URL:https://charleskrug.com/upcoming-events/poolside-celebrating-10-years-of-pacific-standard-time-w-special-guest-viceroy
LOCATION:Blue Note Napa At Charles Krug Winery\, 2800 Main St\, St. Helena\, CA\, 94574\, United States
CATEGORIES:Blue Note Napa At Charles Krug Winery
ATTACH;FMTTYPE=image/png:https://charleskrug.com/wp-content/uploads/2022/08/Poolside.png
END:VEVENT
BEGIN:VEVENT
DTSTART;TZID=America/Los_Angeles:20220812T190000
DTEND;TZID=America/Los_Angeles:20220812T190000
DTSTAMP:20260425T205118
CREATED:20220407T231455Z
LAST-MODIFIED:20220407T231616Z
UID:1238-1660330800-1660330800@charleskrug.com
SUMMARY:The Psychedelic Furs: Made Of Rain 2022 Tour With Special Guests X
DESCRIPTION:
URL:https://charleskrug.com/upcoming-events/the-psychedelic-furs-made-of-rain-2022-tour-with-special-guests-x
LOCATION:Blue Note Napa At Charles Krug Winery\, 2800 Main St\, St. Helena\, CA\, 94574\, United States
CATEGORIES:Blue Note Napa At Charles Krug Winery
ATTACH;FMTTYPE=image/png:https://charleskrug.com/wp-content/uploads/2022/04/The-Psychedelic-Furs.png
END:VEVENT
BEGIN:VEVENT
DTSTART;TZID=America/Los_Angeles:20220807T190000
DTEND;TZID=America/Los_Angeles:20220807T190000
DTSTAMP:20260425T205118
CREATED:20220407T225235Z
LAST-MODIFIED:20220407T231521Z
UID:1235-1659898800-1659898800@charleskrug.com
SUMMARY:Jake Shimabukuro
DESCRIPTION:
URL:https://charleskrug.com/upcoming-events/jake-shimabukuro
LOCATION:CA
CATEGORIES:Blue Note Napa At Charles Krug Winery
ATTACH;FMTTYPE=image/png:https://charleskrug.com/wp-content/uploads/2022/04/Jake-Shimabukuro.png
END:VEVENT
BEGIN:VEVENT
DTSTART;TZID=America/Los_Angeles:20220708T173000
DTEND;TZID=America/Los_Angeles:20220708T173000
DTSTAMP:20260425T205118
CREATED:20220224T003701Z
LAST-MODIFIED:20220407T163736Z
UID:1136-1657301400-1657301400@charleskrug.com
SUMMARY:Sergio Mendes
DESCRIPTION:
URL:https://charleskrug.com/upcoming-events/sergio-mendes
LOCATION:Blue Note Napa At Charles Krug Winery\, 2800 Main St\, St. Helena\, CA\, 94574\, United States
CATEGORIES:Blue Note Napa At Charles Krug Winery
ATTACH;FMTTYPE=image/png:https://charleskrug.com/wp-content/uploads/2022/02/Sergio-Mendes.png
END:VEVENT
BEGIN:VEVENT
DTSTART;TZID=America/Los_Angeles:20220624T200000
DTEND;TZID=America/Los_Angeles:20220624T200000
DTSTAMP:20260425T205118
CREATED:20220224T003701Z
LAST-MODIFIED:20220224T194736Z
UID:1135-1656100800-1656100800@charleskrug.com
SUMMARY:Madeleine Peyroux Careless Love Forever Tour
DESCRIPTION:
URL:https://charleskrug.com/upcoming-events/madeleine-peyroux-careless-love-forever-tour
LOCATION:Blue Note Napa At Charles Krug Winery\, 2800 Main St\, St. Helena\, CA\, 94574\, United States
CATEGORIES:Blue Note Napa At Charles Krug Winery
ATTACH;FMTTYPE=image/png:https://charleskrug.com/wp-content/uploads/2022/02/Madeleine-Peyroux.png
END:VEVENT
BEGIN:VEVENT
DTSTART;TZID=America/Los_Angeles:20220619T190000
DTEND;TZID=America/Los_Angeles:20220619T190000
DTSTAMP:20260425T205118
CREATED:20220224T003700Z
LAST-MODIFIED:20220224T194754Z
UID:1134-1655665200-1655665200@charleskrug.com
SUMMARY:Eliane Elias
DESCRIPTION:
URL:https://charleskrug.com/upcoming-events/eliane-elias
LOCATION:Blue Note Napa At Charles Krug Winery\, 2800 Main St\, St. Helena\, CA\, 94574\, United States
CATEGORIES:Blue Note Napa At Charles Krug Winery
ATTACH;FMTTYPE=image/png:https://charleskrug.com/wp-content/uploads/2022/02/Eliane-Elias.png
END:VEVENT
BEGIN:VEVENT
DTSTART;TZID=America/Los_Angeles:20220618T200000
DTEND;TZID=America/Los_Angeles:20220618T200000
DTSTAMP:20260425T205118
CREATED:20220224T003646Z
LAST-MODIFIED:20220224T194815Z
UID:1133-1655582400-1655582400@charleskrug.com
SUMMARY:Big Bad Voodoo Daddy
DESCRIPTION:
URL:https://charleskrug.com/upcoming-events/big-bad-voodoo-daddy
LOCATION:Blue Note Napa At Charles Krug Winery\, 2800 Main St\, St. Helena\, CA\, 94574\, United States
CATEGORIES:Blue Note Napa At Charles Krug Winery
ATTACH;FMTTYPE=image/png:https://charleskrug.com/wp-content/uploads/2022/02/Big-Bad-Voodoo-Daddy.png
END:VEVENT
BEGIN:VEVENT
DTSTART;TZID=America/Los_Angeles:20220611T180000
DTEND;TZID=America/Los_Angeles:20220611T210000
DTSTAMP:20260425T205118
CREATED:20220421T213109Z
LAST-MODIFIED:20220421T213133Z
UID:1279-1654970400-1654981200@charleskrug.com
SUMMARY:Brian Culbertson W/ Special Guests\, Eric Darius And Marcus Anderson W/ DW3
DESCRIPTION:
URL:https://charleskrug.com/upcoming-events/brian-culbertson-w-special-guests-eric-darius-and-marcus-anderson-w-dw3
LOCATION:Blue Note Napa\, 1030 Main Street\, Napa\, CA\, 94559\, United States
CATEGORIES:Blue Note Napa At Charles Krug Winery
ATTACH;FMTTYPE=image/png:https://charleskrug.com/wp-content/uploads/2022/04/jazz-getaway3.png
END:VEVENT
BEGIN:VEVENT
DTSTART;TZID=America/Los_Angeles:20220610T180000
DTEND;TZID=America/Los_Angeles:20220610T210000
DTSTAMP:20260425T205118
CREATED:20220421T212747Z
LAST-MODIFIED:20220421T213213Z
UID:1276-1654884000-1654894800@charleskrug.com
SUMMARY:Brian Culbertson And Band W/ Special Guest Maysa
DESCRIPTION:
URL:https://charleskrug.com/upcoming-events/brian-culbertson-and-band-w-special-guest-maysa
LOCATION:Blue Note Napa\, 1030 Main Street\, Napa\, CA\, 94559\, United States
CATEGORIES:Blue Note Napa At Charles Krug Winery
ATTACH;FMTTYPE=image/png:https://charleskrug.com/wp-content/uploads/2022/04/jazz-getaway2.png
END:VEVENT
BEGIN:VEVENT
DTSTART;TZID=America/Los_Angeles:20220609T180000
DTEND;TZID=America/Los_Angeles:20220609T210000
DTSTAMP:20260425T205118
CREATED:20220407T224946Z
LAST-MODIFIED:20220407T231535Z
UID:1232-1654797600-1654808400@charleskrug.com
SUMMARY:Boney James W/ Special Guest Lindsey Webster
DESCRIPTION:
URL:https://charleskrug.com/upcoming-events/boney-james-w-special-guest-lindsey-webster
LOCATION:CA
CATEGORIES:Blue Note Napa At Charles Krug Winery
ATTACH;FMTTYPE=image/png:https://charleskrug.com/wp-content/uploads/2022/04/jazz-getaway.png
END:VEVENT
BEGIN:VEVENT
DTSTART;TZID=America/Los_Angeles:20220605T190000
DTEND;TZID=America/Los_Angeles:20220605T190000
DTSTAMP:20260425T205118
CREATED:20220224T003646Z
LAST-MODIFIED:20220224T194835Z
UID:1132-1654455600-1654455600@charleskrug.com
SUMMARY:Tommy Emmanuel\, CGP With Special Guest Richard Smith
DESCRIPTION:
URL:https://charleskrug.com/upcoming-events/tommy-emmanuel-cgp-with-special-guest-richard-smith
LOCATION:Blue Note Napa At Charles Krug Winery\, 2800 Main St\, St. Helena\, CA\, 94574\, United States
CATEGORIES:Blue Note Napa At Charles Krug Winery
ATTACH;FMTTYPE=image/png:https://charleskrug.com/wp-content/uploads/2022/02/Tommy-Emmanuel.png
END:VEVENT
BEGIN:VEVENT
DTSTART;TZID=America/Los_Angeles:20220604T173000
DTEND;TZID=America/Los_Angeles:20220604T173000
DTSTAMP:20260425T205118
CREATED:20220224T003646Z
LAST-MODIFIED:20220407T163609Z
UID:1130-1654363800-1654363800@charleskrug.com
SUMMARY:Chris Botti
DESCRIPTION:
URL:https://charleskrug.com/upcoming-events/chris-botti-3
LOCATION:Blue Note Napa At Charles Krug Winery\, 2800 Main St\, St. Helena\, CA\, 94574\, United States
CATEGORIES:Blue Note Napa At Charles Krug Winery
ATTACH;FMTTYPE=image/png:https://charleskrug.com/wp-content/uploads/2022/02/Chris-Botti.png
END:VEVENT
BEGIN:VEVENT
DTSTART;TZID=America/Los_Angeles:20220603T173000
DTEND;TZID=America/Los_Angeles:20220603T173000
DTSTAMP:20260425T205118
CREATED:20220224T003643Z
LAST-MODIFIED:20220407T163422Z
UID:1128-1654277400-1654277400@charleskrug.com
SUMMARY:Chris Botti
DESCRIPTION:
URL:https://charleskrug.com/upcoming-events/chris-botti
LOCATION:Blue Note Napa At Charles Krug Winery\, 2800 Main St\, St. Helena\, CA\, 94574\, United States
CATEGORIES:Blue Note Napa At Charles Krug Winery
ATTACH;FMTTYPE=image/png:https://charleskrug.com/wp-content/uploads/2022/02/Chris-Botti.png
END:VEVENT
BEGIN:VEVENT
DTSTART;TZID=America/Los_Angeles:20220522T190000
DTEND;TZID=America/Los_Angeles:20220522T190000
DTSTAMP:20260425T205118
CREATED:20220224T003643Z
LAST-MODIFIED:20220224T195025Z
UID:1127-1653246000-1653246000@charleskrug.com
SUMMARY:Damien Escobar
DESCRIPTION:
URL:https://charleskrug.com/upcoming-events/damien-escobar-2
LOCATION:Blue Note Napa At Charles Krug Winery\, 2800 Main St\, St. Helena\, CA\, 94574\, United States
CATEGORIES:Blue Note Napa At Charles Krug Winery
ATTACH;FMTTYPE=image/png:https://charleskrug.com/wp-content/uploads/2022/02/Damien-Escobar.png
END:VEVENT
BEGIN:VEVENT
DTSTART;TZID=America/Los_Angeles:20220521T200000
DTEND;TZID=America/Los_Angeles:20220521T200000
DTSTAMP:20260425T205118
CREATED:20220224T003643Z
LAST-MODIFIED:20220224T195041Z
UID:1126-1653163200-1653163200@charleskrug.com
SUMMARY:Damien Escobar
DESCRIPTION:
URL:https://charleskrug.com/upcoming-events/damien-escobar
LOCATION:Blue Note Napa At Charles Krug Winery\, 2800 Main St\, St. Helena\, CA\, 94574\, United States
CATEGORIES:Blue Note Napa At Charles Krug Winery
ATTACH;FMTTYPE=image/png:https://charleskrug.com/wp-content/uploads/2022/02/Damien-Escobar.png
END:VEVENT
BEGIN:VEVENT
DTSTART;TZID=America/Los_Angeles:20220520T173000
DTEND;TZID=America/Los_Angeles:20220520T173000
DTSTAMP:20260425T205118
CREATED:20220224T003642Z
LAST-MODIFIED:20220407T162912Z
UID:1124-1653067800-1653067800@charleskrug.com
SUMMARY:Jeffrey Osborne
DESCRIPTION:
URL:https://charleskrug.com/upcoming-events/jeffrey-osborne
LOCATION:Blue Note Napa At Charles Krug Winery\, 2800 Main St\, St. Helena\, CA\, 94574\, United States
CATEGORIES:Blue Note Napa At Charles Krug Winery
ATTACH;FMTTYPE=image/png:https://charleskrug.com/wp-content/uploads/2022/02/Jeffrey-Osborne.png
END:VEVENT
END:VCALENDAR